BEGIN:VCALENDAR
VERSION:2.0
PRODID:-//Romerías de Huelva - ECPv6.15.17//NONSGML v1.0//EN
CALSCALE:GREGORIAN
METHOD:PUBLISH
X-WR-CALNAME:Romerías de Huelva
X-ORIGINAL-URL:https://romeriasdehuelva.com
X-WR-CALDESC:Eventos para Romerías de Huelva
REFRESH-INTERVAL;VALUE=DURATION:PT1H
X-Robots-Tag:noindex
X-PUBLISHED-TTL:PT1H
BEGIN:VTIMEZONE
TZID:Europe/Madrid
BEGIN:DAYLIGHT
TZOFFSETFROM:+0100
TZOFFSETTO:+0200
TZNAME:CEST
DTSTART:20240331T010000
END:DAYLIGHT
BEGIN:STANDARD
TZOFFSETFROM:+0200
TZOFFSETTO:+0100
TZNAME:CET
DTSTART:20241027T010000
END:STANDARD
BEGIN:DAYLIGHT
TZOFFSETFROM:+0100
TZOFFSETTO:+0200
TZNAME:CEST
DTSTART:20250330T010000
END:DAYLIGHT
BEGIN:STANDARD
TZOFFSETFROM:+0200
TZOFFSETTO:+0100
TZNAME:CET
DTSTART:20251026T010000
END:STANDARD
BEGIN:DAYLIGHT
TZOFFSETFROM:+0100
TZOFFSETTO:+0200
TZNAME:CEST
DTSTART:20260329T010000
END:DAYLIGHT
BEGIN:STANDARD
TZOFFSETFROM:+0200
TZOFFSETTO:+0100
TZNAME:CET
DTSTART:20261025T010000
END:STANDARD
BEGIN:DAYLIGHT
TZOFFSETFROM:+0100
TZOFFSETTO:+0200
TZNAME:CEST
DTSTART:20270328T010000
END:DAYLIGHT
BEGIN:STANDARD
TZOFFSETFROM:+0200
TZOFFSETTO:+0100
TZNAME:CET
DTSTART:20271031T010000
END:STANDARD
END:VTIMEZONE
BEGIN:VEVENT
DTSTART;VALUE=DATE:20260418
DTEND;VALUE=DATE:20260419
DTSTAMP:20260424T144623
CREATED:20250401T184425Z
LAST-MODIFIED:20260324T202745Z
UID:10000086-1776470400-1776556799@romeriasdehuelva.com
SUMMARY:Romería de Nuestra Señora de la Granada
DESCRIPTION:La Granada de Río Tinto
URL:https://romeriasdehuelva.com/event/romeria-de-nuestra-senora-de-la-granada/
ATTACH;FMTTYPE=image/jpeg:https://romeriasdehuelva.com/wp-content/uploads/2025/03/rfgwert234.jpeg
END:VEVENT
BEGIN:VEVENT
DTSTART;VALUE=DATE:20260417
DTEND;VALUE=DATE:20260421
DTSTAMP:20260424T144623
CREATED:20250401T184422Z
LAST-MODIFIED:20260324T202747Z
UID:10000087-1776384000-1776729599@romeriasdehuelva.com
SUMMARY:Romería de San Sebastián
DESCRIPTION:Santa Bárbara de Casas
URL:https://romeriasdehuelva.com/event/romeria-de-san-sebastian/
ATTACH;FMTTYPE=image/jpeg:https://romeriasdehuelva.com/wp-content/uploads/2025/03/34tg4fr.jpeg
END:VEVENT
BEGIN:VEVENT
DTSTART;VALUE=DATE:20260413
DTEND;VALUE=DATE:20260414
DTSTAMP:20260424T144623
CREATED:20250401T184423Z
LAST-MODIFIED:20260324T202746Z
UID:10000083-1776038400-1776124799@romeriasdehuelva.com
SUMMARY:Romería del Lunes de Albillo
DESCRIPTION:Cumbres Mayores
URL:https://romeriasdehuelva.com/event/romeria-del-lunes-de-albillo/
ATTACH;FMTTYPE=image/jpeg:https://romeriasdehuelva.com/wp-content/uploads/2025/03/quitados_GuiaRomerias-24-asdasdmarzo-004.jpeg
END:VEVENT
BEGIN:VEVENT
DTSTART;VALUE=DATE:20260412
DTEND;VALUE=DATE:20260414
DTSTAMP:20260424T144623
CREATED:20250401T184426Z
LAST-MODIFIED:20260324T202745Z
UID:10000085-1775952000-1776124799@romeriasdehuelva.com
SUMMARY:Romería de la Virgen de Flores
DESCRIPTION:Encinasola
URL:https://romeriasdehuelva.com/event/romeria-de-la-virgen-de-flores/
ATTACH;FMTTYPE=image/jpeg:https://romeriasdehuelva.com/wp-content/uploads/2025/03/quitados_GuiaRomerias-24-mwerfwarzo-004.jpeg
END:VEVENT
BEGIN:VEVENT
DTSTART;VALUE=DATE:20260412
DTEND;VALUE=DATE:20260414
DTSTAMP:20260424T144623
CREATED:20250401T184422Z
LAST-MODIFIED:20260324T202747Z
UID:10000038-1775952000-1776124799@romeriasdehuelva.com
SUMMARY:Romería de Nuestra Señora del Rosario
DESCRIPTION:San Silvestre de Guzmán
URL:https://romeriasdehuelva.com/event/romeria-de-nuestra-senora-del-rosario/
ATTACH;FMTTYPE=image/jpeg:https://romeriasdehuelva.com/wp-content/uploads/2025/03/qwerf4.jpeg
END:VEVENT
BEGIN:VEVENT
DTSTART;VALUE=DATE:20260412
DTEND;VALUE=DATE:20260413
DTSTAMP:20260424T144623
CREATED:20250401T184426Z
LAST-MODIFIED:20260324T202744Z
UID:10000089-1775952000-1776038399@romeriasdehuelva.com
SUMMARY:Romería de Nuestra Señora de la Coronada
DESCRIPTION:Calañas
URL:https://romeriasdehuelva.com/event/romeria-de-nuestra-senora-de-la-coronada/
ATTACH;FMTTYPE=image/jpeg:https://romeriasdehuelva.com/wp-content/uploads/2025/03/quitados_GuiaRomerias-24-mdsffarzo-004.jpeg
END:VEVENT
BEGIN:VEVENT
DTSTART;VALUE=DATE:20260405
DTEND;VALUE=DATE:20260409
DTSTAMP:20260424T144623
CREATED:20250401T184422Z
LAST-MODIFIED:20260324T202746Z
UID:10000088-1775347200-1775692799@romeriasdehuelva.com
SUMMARY:Romería Nuestra Señora de Piedras Albas
DESCRIPTION:El Almendro y Villanueva de los Castillejos
URL:https://romeriasdehuelva.com/event/romeria-nuestra-senora-de-piedras-albas/
ATTACH;FMTTYPE=image/jpeg:https://romeriasdehuelva.com/wp-content/uploads/2025/03/Domingo-romeria-10-de-32.jpg
END:VEVENT
BEGIN:VEVENT
DTSTART;VALUE=DATE:20260322
DTEND;VALUE=DATE:20260323
DTSTAMP:20260424T144623
CREATED:20250401T184425Z
LAST-MODIFIED:20260324T202745Z
UID:10000013-1774137600-1774223999@romeriasdehuelva.com
SUMMARY:Romería de la Virgen del Prado
DESCRIPTION:Higuera de la Sierra
URL:https://romeriasdehuelva.com/event/romeria-de-la-virgen-del-prado/
ATTACH;FMTTYPE=image/jpeg:https://romeriasdehuelva.com/wp-content/uploads/2025/03/few4rt4.jpeg
END:VEVENT
BEGIN:VEVENT
DTSTART;VALUE=DATE:20260314
DTEND;VALUE=DATE:20260316
DTSTAMP:20260424T144623
CREATED:20250401T184423Z
LAST-MODIFIED:20260324T202746Z
UID:10000014-1773446400-1773619199@romeriasdehuelva.com
SUMMARY:Vigilia en honor a San Benito Abad
DESCRIPTION:El Cerro de Andévalo
URL:https://romeriasdehuelva.com/event/vigilia-en-honor-a-san-benito-abad/
ATTACH;FMTTYPE=image/jpeg:https://romeriasdehuelva.com/wp-content/uploads/2025/03/quitados_GuiaRomerias-2sdfsd4-marzo-004.jpeg
END:VEVENT
BEGIN:VEVENT
DTSTART;VALUE=DATE:20260203
DTEND;VALUE=DATE:20260204
DTSTAMP:20260424T144623
CREATED:20250401T184420Z
LAST-MODIFIED:20260324T202748Z
UID:10000015-1770076800-1770163199@romeriasdehuelva.com
SUMMARY:Romería de San Blas
DESCRIPTION:Zalamea La Real
URL:https://romeriasdehuelva.com/event/romeria-de-san-blas/
ATTACH;FMTTYPE=image/jpeg:https://romeriasdehuelva.com/wp-content/uploads/2025/03/f43r43r.jpeg
END:VEVENT
BEGIN:VEVENT
DTSTART;VALUE=DATE:20260124
DTEND;VALUE=DATE:20260125
DTSTAMP:20260424T144623
CREATED:20250401T184421Z
LAST-MODIFIED:20260324T202747Z
UID:10000016-1769212800-1769299199@romeriasdehuelva.com
SUMMARY:Romería de San Vicente Mártir
DESCRIPTION:Villarrasa
URL:https://romeriasdehuelva.com/event/romeria-de-san-vicente-martir/
ATTACH;FMTTYPE=image/jpeg:https://romeriasdehuelva.com/wp-content/uploads/2025/03/wedf23e.jpeg
END:VEVENT
BEGIN:VEVENT
DTSTART;VALUE=DATE:20260117
DTEND;VALUE=DATE:20260118
DTSTAMP:20260424T144623
CREATED:20250401T184423Z
LAST-MODIFIED:20260324T202746Z
UID:10000017-1768608000-1768694399@romeriasdehuelva.com
SUMMARY:Romería de San Sebastián
DESCRIPTION:Bollullos
URL:https://romeriasdehuelva.com/event/romeria-de-san-sebastian-2/
ATTACH;FMTTYPE=image/jpeg:https://romeriasdehuelva.com/wp-content/uploads/2025/03/quitados_GuiaRomerias-2asd4-marzo-004.jpeg
END:VEVENT
BEGIN:VEVENT
DTSTART;VALUE=DATE:20250618
DTEND;VALUE=DATE:20250623
DTSTAMP:20260424T144623
CREATED:20250401T184420Z
LAST-MODIFIED:20250430T160548Z
UID:10000030-1750204800-1750636799@romeriasdehuelva.com
SUMMARY:Romería en honor a María Auxiliadora
DESCRIPTION:Pozo del Camino (Ayamonte-Isla Cristina)
URL:https://romeriasdehuelva.com/event/romeria-en-honor-a-maria-auxiliadora/
ATTACH;FMTTYPE=image/jpeg:https://romeriasdehuelva.com/wp-content/uploads/2025/04/43rfg4rf.jpeg
END:VEVENT
END:VCALENDAR