BEGIN:VCALENDAR
VERSION:2.0
PRODID:-//Romerías de Huelva - ECPv6.15.17//NONSGML v1.0//EN
CALSCALE:GREGORIAN
METHOD:PUBLISH
X-ORIGINAL-URL:https://romeriasdehuelva.com
X-WR-CALDESC:Eventos para Romerías de Huelva
REFRESH-INTERVAL;VALUE=DURATION:PT1H
X-Robots-Tag:noindex
X-PUBLISHED-TTL:PT1H
BEGIN:VTIMEZONE
TZID:Europe/Madrid
BEGIN:DAYLIGHT
TZOFFSETFROM:+0100
TZOFFSETTO:+0200
TZNAME:CEST
DTSTART:20250330T010000
END:DAYLIGHT
BEGIN:STANDARD
TZOFFSETFROM:+0200
TZOFFSETTO:+0100
TZNAME:CET
DTSTART:20251026T010000
END:STANDARD
BEGIN:DAYLIGHT
TZOFFSETFROM:+0100
TZOFFSETTO:+0200
TZNAME:CEST
DTSTART:20260329T010000
END:DAYLIGHT
BEGIN:STANDARD
TZOFFSETFROM:+0200
TZOFFSETTO:+0100
TZNAME:CET
DTSTART:20261025T010000
END:STANDARD
BEGIN:DAYLIGHT
TZOFFSETFROM:+0100
TZOFFSETTO:+0200
TZNAME:CEST
DTSTART:20270328T010000
END:DAYLIGHT
BEGIN:STANDARD
TZOFFSETFROM:+0200
TZOFFSETTO:+0100
TZNAME:CET
DTSTART:20271031T010000
END:STANDARD
END:VTIMEZONE
BEGIN:VEVENT
DTSTART;VALUE=DATE:20260425
DTEND;VALUE=DATE:20260429
DTSTAMP:20260424T173223
CREATED:20250401T184423Z
LAST-MODIFIED:20260324T202746Z
UID:10000084-1777075200-1777420799@romeriasdehuelva.com
SUMMARY:Romería de la Virgen de la Peña
DESCRIPTION:Puebla de Guzmán
URL:https://romeriasdehuelva.com/event/romeria-de-la-virgen-de-la-pena/
ATTACH;FMTTYPE=image/jpeg:https://romeriasdehuelva.com/wp-content/uploads/2025/03/34rfge4r.jpeg
END:VEVENT
BEGIN:VEVENT
DTSTART;VALUE=DATE:20260501
DTEND;VALUE=DATE:20260504
DTSTAMP:20260424T173223
CREATED:20250401T184421Z
LAST-MODIFIED:20260324T202747Z
UID:10000082-1777593600-1777852799@romeriasdehuelva.com
SUMMARY:Romería San José Obrero
DESCRIPTION:Trigueros
URL:https://romeriasdehuelva.com/event/romeria-san-jose-obrero/
ATTACH;FMTTYPE=image/jpeg:https://romeriasdehuelva.com/wp-content/uploads/2025/03/4rf3f43.jpeg
END:VEVENT
BEGIN:VEVENT
DTSTART;VALUE=DATE:20260501
DTEND;VALUE=DATE:20260504
DTSTAMP:20260424T173223
CREATED:20250401T184423Z
LAST-MODIFIED:20260324T202746Z
UID:10000071-1777593600-1777852799@romeriasdehuelva.com
SUMMARY:Romería de la Santa Cruz
DESCRIPTION:Paymogo
URL:https://romeriasdehuelva.com/event/romeria-de-la-santa-cruz-2/
ATTACH;FMTTYPE=image/jpeg:https://romeriasdehuelva.com/wp-content/uploads/2025/03/r3tg4rf.jpeg
END:VEVENT
BEGIN:VEVENT
DTSTART;VALUE=DATE:20260501
DTEND;VALUE=DATE:20260504
DTSTAMP:20260424T173223
CREATED:20250401T184424Z
LAST-MODIFIED:20260324T202746Z
UID:10000080-1777593600-1777852799@romeriasdehuelva.com
SUMMARY:Romería Virgen del Carmen
DESCRIPTION:Mazagón
URL:https://romeriasdehuelva.com/event/romeria-virgen-del-carmen/
ATTACH;FMTTYPE=image/jpeg:https://romeriasdehuelva.com/wp-content/uploads/2025/03/dsfaswer.jpeg
END:VEVENT
BEGIN:VEVENT
DTSTART;VALUE=DATE:20260501
DTEND;VALUE=DATE:20260504
DTSTAMP:20260424T173223
CREATED:20250401T184425Z
LAST-MODIFIED:20260324T202745Z
UID:10000077-1777593600-1777852799@romeriasdehuelva.com
SUMMARY:La Romería de San Isidro Labrador de la Alquería y la Ribera
DESCRIPTION:Huelva
URL:https://romeriasdehuelva.com/event/la-romeria-de-san-isidro-labrador-de-la-alqueria-y-la-ribera/
ATTACH;FMTTYPE=image/jpeg:https://romeriasdehuelva.com/wp-content/uploads/2025/03/refwq43.jpeg
END:VEVENT
BEGIN:VEVENT
DTSTART;VALUE=DATE:20260501
DTEND;VALUE=DATE:20260504
DTSTAMP:20260424T173223
CREATED:20250401T184427Z
LAST-MODIFIED:20260324T202744Z
UID:10000079-1777593600-1777852799@romeriasdehuelva.com
SUMMARY:Romería de la Santa Cruz
DESCRIPTION:Ayamonte
URL:https://romeriasdehuelva.com/event/romeria-de-la-cruz-de-mayo/
ATTACH;FMTTYPE=image/jpeg:https://romeriasdehuelva.com/wp-content/uploads/2025/03/quitados_GuiaRomerias-sdfgsdfg24-marzo-002.jpeg
END:VEVENT
BEGIN:VEVENT
DTSTART;VALUE=DATE:20260502
DTEND;VALUE=DATE:20260503
DTSTAMP:20260424T173223
CREATED:20250401T184421Z
LAST-MODIFIED:20260324T202747Z
UID:10000055-1777680000-1777766399@romeriasdehuelva.com
SUMMARY:Romería de San Pancracio
DESCRIPTION:Valverde del Camino
URL:https://romeriasdehuelva.com/event/romeria-de-san-pancracio/
ATTACH;FMTTYPE=image/jpeg:https://romeriasdehuelva.com/wp-content/uploads/2025/03/485946190_1098387748988067_1343350748918526683_n.jpeg
END:VEVENT
BEGIN:VEVENT
DTSTART;VALUE=DATE:20260502
DTEND;VALUE=DATE:20260503
DTSTAMP:20260424T173223
CREATED:20250401T184421Z
LAST-MODIFIED:20260324T202747Z
UID:10000078-1777680000-1777766399@romeriasdehuelva.com
SUMMARY:Romería a la Ermita del Divino Salvador
DESCRIPTION:Valdelarco
URL:https://romeriasdehuelva.com/event/romeria-a-la-ermita-del-divino-salvador/
ATTACH;FMTTYPE=image/jpeg:https://romeriasdehuelva.com/wp-content/uploads/2025/03/42er24.jpeg
END:VEVENT
BEGIN:VEVENT
DTSTART;VALUE=DATE:20260502
DTEND;VALUE=DATE:20260504
DTSTAMP:20260424T173223
CREATED:20250401T184423Z
LAST-MODIFIED:20260324T202746Z
UID:10000081-1777680000-1777852799@romeriasdehuelva.com
SUMMARY:Romería de la Santa Cruz El Campillo
DESCRIPTION:El Campillo
URL:https://romeriasdehuelva.com/event/romeria-de-la-santa-cruz-el-campillo/
ATTACH;FMTTYPE=image/jpeg:https://romeriasdehuelva.com/wp-content/uploads/2025/03/quitados_GuiaRomerias-asd24-marzo-004.jpeg
END:VEVENT
BEGIN:VEVENT
DTSTART;VALUE=DATE:20260502
DTEND;VALUE=DATE:20260504
DTSTAMP:20260424T173223
CREATED:20250401T184425Z
LAST-MODIFIED:20260324T202745Z
UID:10000070-1777680000-1777852799@romeriasdehuelva.com
SUMMARY:Romería de San Isidro Labrador
DESCRIPTION:Gibraleón
URL:https://romeriasdehuelva.com/event/romeria-de-san-isidro-labrador-5/
ATTACH;FMTTYPE=image/jpeg:https://romeriasdehuelva.com/wp-content/uploads/2025/03/2r234r.jpeg
END:VEVENT
BEGIN:VEVENT
DTSTART;VALUE=DATE:20260502
DTEND;VALUE=DATE:20260504
DTSTAMP:20260424T173223
CREATED:20250401T184425Z
LAST-MODIFIED:20260324T202745Z
UID:10000034-1777680000-1777852799@romeriasdehuelva.com
SUMMARY:Romería de la Divina Pastora
DESCRIPTION:Galaroza
URL:https://romeriasdehuelva.com/event/romeria-de-la-divina-pastora/
ATTACH;FMTTYPE=image/png:https://romeriasdehuelva.com/wp-content/uploads/2025/03/Imagen-1.png
END:VEVENT
BEGIN:VEVENT
DTSTART;VALUE=DATE:20260502
DTEND;VALUE=DATE:20260504
DTSTAMP:20260424T173223
CREATED:20250401T184426Z
LAST-MODIFIED:20260324T202745Z
UID:10000076-1777680000-1777852799@romeriasdehuelva.com
SUMMARY:Romería de la Santa Cruz
DESCRIPTION:El Granado
URL:https://romeriasdehuelva.com/event/romeria-de-la-santa-cruz-3/
ATTACH;FMTTYPE=image/jpeg:https://romeriasdehuelva.com/wp-content/uploads/2025/03/45gft5gf.jpeg
END:VEVENT
BEGIN:VEVENT
DTSTART;VALUE=DATE:20260502
DTEND;VALUE=DATE:20260504
DTSTAMP:20260424T173223
CREATED:20250401T184428Z
LAST-MODIFIED:20260324T202743Z
UID:10000075-1777680000-1777852799@romeriasdehuelva.com
SUMMARY:Romería de Ntra. Sra. Reina del Mundo y San José Obrero
DESCRIPTION:Aljaraque
URL:https://romeriasdehuelva.com/event/romeria-de-ntra-sra-reina-del-mundo-y-san-jose-obrero/
ATTACH;FMTTYPE=image/jpeg:https://romeriasdehuelva.com/wp-content/uploads/2025/03/quitados_GuiaRomerias-24fghfghmarzo-002.jpeg
END:VEVENT
BEGIN:VEVENT
DTSTART;VALUE=DATE:20260502
DTEND;VALUE=DATE:20260505
DTSTAMP:20260424T173223
CREATED:20250401T184421Z
LAST-MODIFIED:20260324T202747Z
UID:10000074-1777680000-1777939199@romeriasdehuelva.com
SUMMARY:Romería de Santa María de la Cruz
DESCRIPTION:Villanueva de las Cruces
URL:https://romeriasdehuelva.com/event/romeria-de-santa-maria-de-la-cruz/
ATTACH;FMTTYPE=image/jpeg:https://romeriasdehuelva.com/wp-content/uploads/2025/03/ed3trfr3.jpeg
END:VEVENT
BEGIN:VEVENT
DTSTART;VALUE=DATE:20260502
DTEND;VALUE=DATE:20260505
DTSTAMP:20260424T173223
CREATED:20250401T184423Z
LAST-MODIFIED:20260324T202746Z
UID:10000073-1777680000-1777939199@romeriasdehuelva.com
SUMMARY:Romería de San Benito
DESCRIPTION:El Cerro de Andévalo
URL:https://romeriasdehuelva.com/event/romeria-de-san-benito/
ATTACH;FMTTYPE=image/jpeg:https://romeriasdehuelva.com/wp-content/uploads/2025/03/quitados_GuiaRowqrwmerias-24-marzo-004.jpeg
END:VEVENT
BEGIN:VEVENT
DTSTART;VALUE=DATE:20260507
DTEND;VALUE=DATE:20260511
DTSTAMP:20260424T173223
CREATED:20250401T184426Z
LAST-MODIFIED:20260324T202744Z
UID:10000072-1778112000-1778457599@romeriasdehuelva.com
SUMMARY:Romería de la Divina Pastora y San Isidro
DESCRIPTION:Chucena
URL:https://romeriasdehuelva.com/event/romeria-de-san-isidro-labrador-y-la-divina-pastora/
ATTACH;FMTTYPE=image/jpeg:https://romeriasdehuelva.com/wp-content/uploads/2025/03/fr3fr.jpeg
END:VEVENT
BEGIN:VEVENT
DTSTART;VALUE=DATE:20260508
DTEND;VALUE=DATE:20260510
DTSTAMP:20260424T173224
CREATED:20250401T184422Z
LAST-MODIFIED:20260324T202747Z
UID:10000068-1778198400-1778371199@romeriasdehuelva.com
SUMMARY:Romería de Fátima de la Corte de Santa Ana
DESCRIPTION:Santa Ana La Real
URL:https://romeriasdehuelva.com/event/romeria-de-fatima/
ATTACH;FMTTYPE=image/jpeg:https://romeriasdehuelva.com/wp-content/uploads/2025/03/1000194637.jpg
END:VEVENT
BEGIN:VEVENT
DTSTART;VALUE=DATE:20260508
DTEND;VALUE=DATE:20260512
DTSTAMP:20260424T173224
CREATED:20250401T184421Z
LAST-MODIFIED:20260324T202748Z
UID:10000069-1778198400-1778543999@romeriasdehuelva.com
SUMMARY:El Romerito
DESCRIPTION:Zalamea La Real
URL:https://romeriasdehuelva.com/event/el-romerito/
ATTACH;FMTTYPE=image/jpeg:https://romeriasdehuelva.com/wp-content/uploads/2025/03/e23r34.jpeg
END:VEVENT
BEGIN:VEVENT
DTSTART;VALUE=DATE:20260508
DTEND;VALUE=DATE:20260512
DTSTAMP:20260424T173224
CREATED:20250401T184424Z
LAST-MODIFIED:20260324T202746Z
UID:10000067-1778198400-1778543999@romeriasdehuelva.com
SUMMARY:Romería de Ntra. Sra. de Montemayor
DESCRIPTION:Moguer
URL:https://romeriasdehuelva.com/event/romeria-de-ntra-sra-de-montemayor/
ATTACH;FMTTYPE=image/jpeg:https://romeriasdehuelva.com/wp-content/uploads/2025/03/3rtgr3.jpeg
END:VEVENT
BEGIN:VEVENT
DTSTART;VALUE=DATE:20260508
DTEND;VALUE=DATE:20260512
DTSTAMP:20260424T173224
CREATED:20250401T184425Z
LAST-MODIFIED:20260324T202745Z
UID:10000066-1778198400-1778543999@romeriasdehuelva.com
SUMMARY:Romería de la Bella
DESCRIPTION:Lepe
URL:https://romeriasdehuelva.com/event/romeria-de-la-bella/
ATTACH;FMTTYPE=image/jpeg:https://romeriasdehuelva.com/wp-content/uploads/2025/03/013345449-scaled.jpg
END:VEVENT
BEGIN:VEVENT
DTSTART;VALUE=DATE:20260509
DTEND;VALUE=DATE:20260511
DTSTAMP:20260424T173224
CREATED:20250401T184423Z
LAST-MODIFIED:20260324T202746Z
UID:10000065-1778284800-1778457599@romeriasdehuelva.com
SUMMARY:Romería de Ntra. Sra. de la Salud
DESCRIPTION:Beas
URL:https://romeriasdehuelva.com/event/romeria-de-ntra-sra-de-la-salud/
ATTACH;FMTTYPE=image/jpeg:https://romeriasdehuelva.com/wp-content/uploads/2025/03/WhatsApp-Image-2025-04-11-at-11.05.15-5.jpeg
END:VEVENT
BEGIN:VEVENT
DTSTART;VALUE=DATE:20260509
DTEND;VALUE=DATE:20260511
DTSTAMP:20260424T173224
CREATED:20250401T184427Z
LAST-MODIFIED:20260324T202744Z
UID:10000064-1778284800-1778457599@romeriasdehuelva.com
SUMMARY:Romería en honor a Santa Bárbara
DESCRIPTION:Tharsis
URL:https://romeriasdehuelva.com/event/romeria-en-honor-a-santa-barbara/
ATTACH;FMTTYPE=image/jpeg:https://romeriasdehuelva.com/wp-content/uploads/2025/03/DSC_0311-scaled.jpg
END:VEVENT
BEGIN:VEVENT
DTSTART;VALUE=DATE:20260509
DTEND;VALUE=DATE:20260512
DTSTAMP:20260424T173224
CREATED:20250401T184427Z
LAST-MODIFIED:20260324T202744Z
UID:10000063-1778284800-1778543999@romeriasdehuelva.com
SUMMARY:Romería de San Sebastián
DESCRIPTION:Cabezas Rubias
URL:https://romeriasdehuelva.com/event/romeria-de-san-sebastian-3/
ATTACH;FMTTYPE=image/jpeg:https://romeriasdehuelva.com/wp-content/uploads/2025/03/Romeria-1.jpg
END:VEVENT
BEGIN:VEVENT
DTSTART;VALUE=DATE:20260510
DTEND;VALUE=DATE:20260511
DTSTAMP:20260424T173224
CREATED:20250401T184421Z
LAST-MODIFIED:20260324T202747Z
UID:10000040-1778371200-1778457599@romeriasdehuelva.com
SUMMARY:Romería de Santa Eulalia
DESCRIPTION:Santa Olalla del Cala
URL:https://romeriasdehuelva.com/event/romeria-de-santa-eulalia/
ATTACH;FMTTYPE=image/jpeg:https://romeriasdehuelva.com/wp-content/uploads/2025/03/WhatsApp-Image-2025-04-10-at-09.10.59-1.jpeg
END:VEVENT
BEGIN:VEVENT
DTSTART;VALUE=DATE:20260510
DTEND;VALUE=DATE:20260511
DTSTAMP:20260424T173224
CREATED:20250401T184426Z
LAST-MODIFIED:20260324T202745Z
UID:10000062-1778371200-1778457599@romeriasdehuelva.com
SUMMARY:Romería de Ntra. Sra. de la Coronada
DESCRIPTION:Cortelazor
URL:https://romeriasdehuelva.com/event/romeria-de-la-virgen-coronada/
ATTACH;FMTTYPE=image/jpeg:https://romeriasdehuelva.com/wp-content/uploads/2025/03/pro-3Gq2fNSf.jpeg
END:VEVENT
BEGIN:VEVENT
DTSTART;VALUE=DATE:20260513
DTEND;VALUE=DATE:20260518
DTSTAMP:20260424T173224
CREATED:20250401T184427Z
LAST-MODIFIED:20260324T202744Z
UID:10000057-1778630400-1779062399@romeriasdehuelva.com
SUMMARY:Romería en Honor a la Virgen de los Remedios
DESCRIPTION:Arroyomolinos de León
URL:https://romeriasdehuelva.com/event/romeria-de-la-virgen-de-los-remedios/
ATTACH;FMTTYPE=image/jpeg:https://romeriasdehuelva.com/wp-content/uploads/2025/03/IMG_3923.jpeg
END:VEVENT
BEGIN:VEVENT
DTSTART;VALUE=DATE:20260514
DTEND;VALUE=DATE:20260518
DTSTAMP:20260424T173224
CREATED:20250401T184426Z
LAST-MODIFIED:20260324T202745Z
UID:10000050-1778716800-1779062399@romeriasdehuelva.com
SUMMARY:Romería de la Virgen de la Aliseda
DESCRIPTION:Cumbres de San Bartolomé
URL:https://romeriasdehuelva.com/event/romeria-de-la-virgen-de-la-aliseda/
ATTACH;FMTTYPE=image/jpeg:https://romeriasdehuelva.com/wp-content/uploads/2025/03/PHOTO-2025-04-03-10-33-03.jpg
END:VEVENT
BEGIN:VEVENT
DTSTART;VALUE=DATE:20260515
DTEND;VALUE=DATE:20260518
DTSTAMP:20260424T173224
CREATED:20250401T184421Z
LAST-MODIFIED:20260324T202747Z
UID:10000061-1778803200-1779062399@romeriasdehuelva.com
SUMMARY:Romería de San Isidro Labrador
DESCRIPTION:Villarrasa
URL:https://romeriasdehuelva.com/event/romeria-de-san-isidro-labrador/
ATTACH;FMTTYPE=image/jpeg:https://romeriasdehuelva.com/wp-content/uploads/2025/03/34rf43r.jpeg
END:VEVENT
BEGIN:VEVENT
DTSTART;VALUE=DATE:20260515
DTEND;VALUE=DATE:20260518
DTSTAMP:20260424T173224
CREATED:20250401T184422Z
LAST-MODIFIED:20260324T202747Z
UID:10000060-1778803200-1779062399@romeriasdehuelva.com
SUMMARY:Romería Santa Cruz “El Pino”
DESCRIPTION:Minas de Riotinto
URL:https://romeriasdehuelva.com/event/romeria-santa-cruz-el-pino/
ATTACH;FMTTYPE=image/jpeg:https://romeriasdehuelva.com/wp-content/uploads/2025/03/WhatsApp-Image-2025-04-07-at-09.47.20.jpeg
END:VEVENT
BEGIN:VEVENT
DTSTART;VALUE=DATE:20260515
DTEND;VALUE=DATE:20260518
DTSTAMP:20260424T173224
CREATED:20250401T184424Z
LAST-MODIFIED:20260324T202746Z
UID:10000058-1778803200-1779062399@romeriasdehuelva.com
SUMMARY:Romería de San Isidro Labrador
DESCRIPTION:Paterna del Campo
URL:https://romeriasdehuelva.com/event/romeria-de-san-isidro-labrador-4/
ATTACH;FMTTYPE=image/jpeg:https://romeriasdehuelva.com/wp-content/uploads/2025/03/WhatsApp-Image-2025-04-10-at-09.10.20-1.jpeg
END:VEVENT
END:VCALENDAR